BEGIN:VCALENDAR
VERSION:2.0
PRODID:-//Szkoła Podstawowa nr 112 Przymierza Rodzin im. św. Jana Pawła II - ECPv6.15.17.1//NONSGML v1.0//EN
CALSCALE:GREGORIAN
METHOD:PUBLISH
X-ORIGINAL-URL:https://szkolaswjp2.pl/en/
X-WR-CALDESC:Events for Szkoła Podstawowa nr 112 Przymierza Rodzin im. św. Jana Pawła II
REFRESH-INTERVAL;VALUE=DURATION:PT1H
X-Robots-Tag:noindex
X-PUBLISHED-TTL:PT1H
BEGIN:VTIMEZONE
TZID:UTC
BEGIN:STANDARD
TZOFFSETFROM:+0000
TZOFFSETTO:+0000
TZNAME:UTC
DTSTART:20230101T000000
END:STANDARD
END:VTIMEZONE
BEGIN:VEVENT
DTSTART;TZID=UTC:20250517T080000
DTEND;TZID=UTC:20250517T170000
DTSTAMP:20260421T150737
CREATED:20240925T124727Z
LAST-MODIFIED:20240925T124727Z
UID:12334-1747468800-1747501200@szkolaswjp2.pl
SUMMARY:First Holy Communion
DESCRIPTION:First Holy Communion
URL:https://szkolaswjp2.pl/en/wydarzenie/first-holy-communion/
CATEGORIES:Events
ATTACH;FMTTYPE=image/jpeg:https://szkolaswjp2.pl/wp-content/uploads/2024/09/20170512_120155-scaled.jpg
END:VEVENT
BEGIN:VEVENT
DTSTART;TZID=UTC:20250131T080000
DTEND;TZID=UTC:20250131T170000
DTSTAMP:20260421T150737
CREATED:20240918T144632Z
LAST-MODIFIED:20240918T144632Z
UID:12338-1738310400-1738342800@szkolaswjp2.pl
SUMMARY:Announcement of Admission Results
DESCRIPTION:Announcement of Admission Results
URL:https://szkolaswjp2.pl/en/wydarzenie/announcement-of-admission-results/
CATEGORIES:Events
ATTACH;FMTTYPE=image/jpeg:https://szkolaswjp2.pl/wp-content/uploads/2022/06/children-playing-on-grass.jpg
END:VEVENT
BEGIN:VEVENT
DTSTART;TZID=UTC:20250111T100000
DTEND;TZID=UTC:20250111T120000
DTSTAMP:20260421T150737
CREATED:20240918T143037Z
LAST-MODIFIED:20240918T143037Z
UID:12337-1736589600-1736596800@szkolaswjp2.pl
SUMMARY:Information Meeting - Recruitment
DESCRIPTION:Information Meeting – Recruitment
URL:https://szkolaswjp2.pl/en/wydarzenie/information-meeting-recruitment/
CATEGORIES:Events
ATTACH;FMTTYPE=image/jpeg:https://szkolaswjp2.pl/wp-content/uploads/2024/03/IMG_20240313_0847258201-scaled.jpg
END:VEVENT
BEGIN:VEVENT
DTSTART;TZID=UTC:20240203T100000
DTEND;TZID=UTC:20240203T120000
DTSTAMP:20260421T150737
CREATED:20231012T140724Z
LAST-MODIFIED:20231012T140724Z
UID:12341-1706954400-1706961600@szkolaswjp2.pl
SUMMARY:Admissions meeting for kindergarten and first grades
DESCRIPTION:Admissions meeting for kindergarten and first grades
URL:https://szkolaswjp2.pl/en/wydarzenie/admissions-meeting-for-kindergarten-and-first-grades/
CATEGORIES:Events
END:VEVENT
BEGIN:VEVENT
DTSTART;TZID=UTC:20240110T080000
DTEND;TZID=UTC:20240110T170000
DTSTAMP:20260421T150737
CREATED:20231012T141000Z
LAST-MODIFIED:20231012T141000Z
UID:12336-1704873600-1704906000@szkolaswjp2.pl
SUMMARY:Recruitment meeting for grade 0 candidates
DESCRIPTION:Recruitment meeting for grade 0 candidates
URL:https://szkolaswjp2.pl/en/wydarzenie/recruitment-meeting-for-grade-0-candidates/
END:VEVENT
END:VCALENDAR