BEGIN:VCALENDAR
VERSION:2.0
PRODID:-//Szkoła Podstawowa nr 112 Przymierza Rodzin im. św. Jana Pawła II - ECPv6.15.17.1//NONSGML v1.0//EN
CALSCALE:GREGORIAN
METHOD:PUBLISH
X-ORIGINAL-URL:https://szkolaswjp2.pl
X-WR-CALDESC:Wydarzenia dla Szkoła Podstawowa nr 112 Przymierza Rodzin im. św. Jana Pawła II
REFRESH-INTERVAL;VALUE=DURATION:PT1H
X-Robots-Tag:noindex
X-PUBLISHED-TTL:PT1H
BEGIN:VTIMEZONE
TZID:UTC
BEGIN:STANDARD
TZOFFSETFROM:+0000
TZOFFSETTO:+0000
TZNAME:UTC
DTSTART:20230101T000000
END:STANDARD
END:VTIMEZONE
BEGIN:VEVENT
DTSTART;TZID=UTC:20241205T080000
DTEND;TZID=UTC:20241205T170000
DTSTAMP:20260420T084935
CREATED:20241205T133236Z
LAST-MODIFIED:20260211T145235Z
UID:10662-1733385600-1733418000@szkolaswjp2.pl
SUMMARY:Przymierzowe Sprawy czyli Gazetka Szkolna
DESCRIPTION:Gazetka Szkolna Wydanie IV\n \n\nGazetka Szkolna Wydanie III\n \nGazetka Szkolna Wydanie II \n 
URL:https://szkolaswjp2.pl/wydarzenie/przymierzowe-sprawy-czyli-gazetka-szkolna/
CATEGORIES:wydarzenia
ATTACH;FMTTYPE=image/jpeg:https://szkolaswjp2.pl/wp-content/uploads/2024/12/Przymierzowe-Sprawy-1.jpg
END:VEVENT
BEGIN:VEVENT
DTSTART;TZID=UTC:20241202T080000
DTEND;TZID=UTC:20241204T170000
DTSTAMP:20260420T084935
CREATED:20240918T135258Z
LAST-MODIFIED:20240924T123116Z
UID:10114-1733126400-1733331600@szkolaswjp2.pl
SUMMARY:Rekolekcje Adwentowe w Popowie - klasy 6
DESCRIPTION:Rekolekcje Adwentowe w Popowie – klasy 6
URL:https://szkolaswjp2.pl/wydarzenie/rekolekcje-adwentowe-w-popowie-klasy-6/
CATEGORIES:wydarzenia
ATTACH;FMTTYPE=image/jpeg:https://szkolaswjp2.pl/wp-content/uploads/2024/09/DSC_0722-scaled.jpg
END:VEVENT
BEGIN:VEVENT
DTSTART;TZID=UTC:20241202T080000
DTEND;TZID=UTC:20241202T170000
DTSTAMP:20260420T084935
CREATED:20241202T103930Z
LAST-MODIFIED:20241202T105525Z
UID:10653-1733126400-1733158800@szkolaswjp2.pl
SUMMARY:Kalendarz Adwentowy w Bibliotece
DESCRIPTION:Zapraszamy do biblioteki na długiej przerwie\, ok. godz. 12.45 \nAdwent to czas radosnego oczekiwania na narodzenie Pana Jezusa. My również\, razem z naszymi czytelnikami\, będziemy przybliżali się do tego niezwykłego dnia-codziennie odkrywając kolejną kartkę kalendarza adwentowego. \n                        
URL:https://szkolaswjp2.pl/wydarzenie/kalendarz-adwentowy-w-bibliotece/
CATEGORIES:wydarzenia
ATTACH;FMTTYPE=image/jpeg:https://szkolaswjp2.pl/wp-content/uploads/2024/12/20241202_083033-scaled.jpg
END:VEVENT
BEGIN:VEVENT
DTSTART;TZID=UTC:20241126T080000
DTEND;TZID=UTC:20241126T170000
DTSTAMP:20260420T084935
CREATED:20240918T135041Z
LAST-MODIFIED:20241127T151524Z
UID:10112-1732608000-1732640400@szkolaswjp2.pl
SUMMARY:Firmy Jabłkowe
DESCRIPTION:Firmy Jabłkowe\n   
URL:https://szkolaswjp2.pl/wydarzenie/firmy-jablkowe-6/
CATEGORIES:wydarzenia
ATTACH;FMTTYPE=image/jpeg:https://szkolaswjp2.pl/wp-content/uploads/2024/01/20240130_151630-scaled.jpg
END:VEVENT
BEGIN:VEVENT
DTSTART;TZID=UTC:20241126T080000
DTEND;TZID=UTC:20241126T170000
DTSTAMP:20260420T084935
CREATED:20240918T134933Z
LAST-MODIFIED:20240918T134933Z
UID:10110-1732608000-1732640400@szkolaswjp2.pl
SUMMARY:Spotkanie Postcommunio
DESCRIPTION:Spotkanie Postcommunio
URL:https://szkolaswjp2.pl/wydarzenie/spotkanie-postcommunio/
CATEGORIES:wydarzenia
ATTACH;FMTTYPE=image/jpeg:https://szkolaswjp2.pl/wp-content/uploads/2022/07/1-1-2048x1366-1.jpg
END:VEVENT
BEGIN:VEVENT
DTSTART;TZID=UTC:20241120T080000
DTEND;TZID=UTC:20241121T170000
DTSTAMP:20260420T084935
CREATED:20241118T091224Z
LAST-MODIFIED:20241125T132207Z
UID:10576-1732089600-1732208400@szkolaswjp2.pl
SUMMARY:Futsal
DESCRIPTION:Futsal – turniej w halowej piłce nożnej
URL:https://szkolaswjp2.pl/wydarzenie/futsal/
CATEGORIES:wydarzenia,zawody-konkursy
ATTACH;FMTTYPE=image/jpeg:https://szkolaswjp2.pl/wp-content/uploads/2024/11/futsalgram_2024-02-2048x899-1-1200x800-1.jpg
END:VEVENT
BEGIN:VEVENT
DTSTART;TZID=UTC:20241119T180000
DTEND;TZID=UTC:20241119T190000
DTSTAMP:20260420T084935
CREATED:20240918T134705Z
LAST-MODIFIED:20240920T085917Z
UID:10108-1732039200-1732042800@szkolaswjp2.pl
SUMMARY:Spotkanie z Rodzicami Communio
DESCRIPTION:Spotkanie z Rodzicami Communio
URL:https://szkolaswjp2.pl/wydarzenie/spotkanie-z-rodzicami-communio/
CATEGORIES:wydarzenia
ATTACH;FMTTYPE=image/jpeg:https://szkolaswjp2.pl/wp-content/uploads/2022/09/2.jpg
END:VEVENT
BEGIN:VEVENT
DTSTART;TZID=UTC:20241119T080000
DTEND;TZID=UTC:20241119T170000
DTSTAMP:20260420T084935
CREATED:20241119T102826Z
LAST-MODIFIED:20241119T102849Z
UID:10600-1732003200-1732035600@szkolaswjp2.pl
SUMMARY:Międzynarodowy Dzień Praw Dziecka
DESCRIPTION:20 listopada to wyjątkowy dzień – rocznica uchwalenia Konwencji o Prawach Dziecka. W tym roku mija 35 lat od tego ważnego wydarzenia. Międzynarodowy Dzień Praw Dziecka to moment\, w którym uwaga wszystkich kierowana jest na dzieci i ich prawa. Każde dziecko\, bez względu na swoje pochodzenie\, narodowość\, przynależność etniczną\, kolor skóry\, wyznawaną religię\, status społeczno-ekonomiczny ma takie same prawa. W tym szczególnym dniu dzieci na całym świecie jednoczą się i podejmują wiele działań w imieniu swoich rówieśników – tych\, których prawa często są łamane. To radosny dzień\, ale z poważnym przesłaniem. To okazja\, aby z jednej strony w sposób pozytywny i radosny uświadamiać wszystkim\, że prawa dziecka są ważne i każde dziecko powinno móc z nich korzystać\, z drugiej strony to dzień okazywania solidarności i wsparcia wszystkim tym dzieciom na świecie\, których prawa są naruszane. Zapraszamy do biblioteki szkolnej wszystkich\, którzy chcieliby poznać historie Iqbala i Malali – dzieci\, które miały odwagę walczyć o siebie i prawa innych.
URL:https://szkolaswjp2.pl/wydarzenie/miedzynarodowy-dzien-praw-dziecka/
CATEGORIES:wydarzenia
ATTACH;FMTTYPE=image/jpeg:https://szkolaswjp2.pl/wp-content/uploads/2024/11/20-lat-MDPD.jpg
END:VEVENT
BEGIN:VEVENT
DTSTART;TZID=UTC:20241116T080000
DTEND;TZID=UTC:20241116T170000
DTSTAMP:20260420T084935
CREATED:20240918T134401Z
LAST-MODIFIED:20240918T134401Z
UID:10106-1731744000-1731776400@szkolaswjp2.pl
SUMMARY:Dzień Patrona - dzień skupienia dla członków Przymierza Rodzin
DESCRIPTION:Dzień Patrona – dzień skupienia dla członków Przymierza Rodzin
URL:https://szkolaswjp2.pl/wydarzenie/dzien-patrona-dzien-skupienia-dla-czlonkow-przymierza-rodzin/
CATEGORIES:wydarzenia
ATTACH;FMTTYPE=image/jpeg:https://szkolaswjp2.pl/wp-content/uploads/2022/09/311106092_791025315540061_1294726942636396773_n.jpg
END:VEVENT
BEGIN:VEVENT
DTSTART;TZID=UTC:20241115T183000
DTEND;TZID=UTC:20241115T203000
DTSTAMP:20260420T084935
CREATED:20240918T134148Z
LAST-MODIFIED:20241112T074208Z
UID:10104-1731695400-1731702600@szkolaswjp2.pl
SUMMARY:Wieczorne Pieśni Patriotyczne
DESCRIPTION:Wieczorne Pieśni Patriotyczne\nSzanowni Rodzice\, Nauczyciele i Uczniowie.\nW piątek 15.11. o godzinie 18.30\, zapraszamy do szkolnej auli\, na Wieczór Pieśni Patriotycznych.\nTym razem nie będzie kawy i herbaty\, a zamiast śpiewników\, teksty będą wyświetlane na dużym ekranie\, dzięki czemu każdy bez trudu będzie mógł\nodczytać\, i pośpiewać.\nTradycyjnie zapraszamy Państwa rodziny – bliższe i dalsze\, przyjaciół\, znajomych\, sąsiadów… każdego kto będzie chciał z nami poświętować\nprzy piosence.\nOrganizatorzy
URL:https://szkolaswjp2.pl/wydarzenie/wieczorne-piesni-patriotyczne/
CATEGORIES:wydarzenia
ATTACH;FMTTYPE=image/jpeg:https://szkolaswjp2.pl/wp-content/uploads/2023/05/Schowek2.jpg
END:VEVENT
BEGIN:VEVENT
DTSTART;TZID=UTC:20241114T080000
DTEND;TZID=UTC:20241114T170000
DTSTAMP:20260420T084935
CREATED:20241118T072508Z
LAST-MODIFIED:20241118T072508Z
UID:10547-1731571200-1731603600@szkolaswjp2.pl
SUMMARY:Wizyta w niemieckiej Szkole Willego Brandta
DESCRIPTION:Sankt Martin! Przyjęliśmy zaproszenie niemieckiej Szkoły Willy Brandta i w czwartek 14.11. mieliśmy okazję uczestniczyć w święcie św. Marcina- obejrzeliśmy teatrzyk klas 4\, ruszyliśmy w pochodzie z latarniami\, a na koniec przy  ognisku zjedliśmy bułeczki marcińskie. WBS\, dziękujemy i do zobaczenia za rok!
URL:https://szkolaswjp2.pl/wydarzenie/wizyta-w-niemieckiej-szkole-willego-brandta/
CATEGORIES:wydarzenia
ATTACH;FMTTYPE=image/jpeg:https://szkolaswjp2.pl/wp-content/uploads/2024/11/WhatsApp-Image-2024-11-15-at-18.44.31-1.jpeg
END:VEVENT
BEGIN:VEVENT
DTSTART;TZID=UTC:20241113T080000
DTEND;TZID=UTC:20241113T170000
DTSTAMP:20260420T084935
CREATED:20240918T133807Z
LAST-MODIFIED:20240918T133807Z
UID:10102-1731484800-1731517200@szkolaswjp2.pl
SUMMARY:Dzień Otwarty
DESCRIPTION:Dzień otwarty
URL:https://szkolaswjp2.pl/wydarzenie/dzien-otwarty-2/
CATEGORIES:wydarzenia
ATTACH;FMTTYPE=image/jpeg:https://szkolaswjp2.pl/wp-content/uploads/2023/02/IMG_2776-scaled.jpg
END:VEVENT
BEGIN:VEVENT
DTSTART;TZID=UTC:20241112T080000
DTEND;TZID=UTC:20241112T170000
DTSTAMP:20260420T084935
CREATED:20241112T073009Z
LAST-MODIFIED:20241112T073532Z
UID:10537-1731398400-1731430800@szkolaswjp2.pl
SUMMARY:Wieczór Pieśni Patriotycznych
DESCRIPTION:Wieczór Pieśni Patriotycznych\nSzanowni Rodzice\, Nauczyciele i Uczniowie.\nW najbliższy piątek 15.11. o godzinie 18.30\, zapraszamy do szkolnej auli\, na Wieczór Pieśni Patriotycznych.\nTym razem nie będzie kawy i herbaty\, a zamiast śpiewników\, teksty będą wyświetlane na dużym ekranie\, dzięki czemu każdy bez trudu będzie mógł\nodczytać\, i pośpiewać.\nTradycyjnie zapraszamy Państwa rodziny – bliższe i dalsze\, przyjaciół\, znajomych\, sąsiadów… każdego kto będzie chciał z nami poświętować przy piosence.\nOrganizatorzy
URL:https://szkolaswjp2.pl/wydarzenie/wieczor-piesni-patriotycznych/
CATEGORIES:koncerty,wydarzenia
ATTACH;FMTTYPE=image/jpeg:https://szkolaswjp2.pl/wp-content/uploads/2022/09/Narodowa-flaga-Polski.jpg
END:VEVENT
BEGIN:VEVENT
DTSTART;TZID=UTC:20241111T080000
DTEND;TZID=UTC:20241111T170000
DTSTAMP:20260420T084935
CREATED:20240918T133454Z
LAST-MODIFIED:20241108T114412Z
UID:10100-1731312000-1731344400@szkolaswjp2.pl
SUMMARY:Święto Niepodległości
DESCRIPTION:Święto Niepodległości
URL:https://szkolaswjp2.pl/wydarzenie/swieto-niepodleglosci-2/
ATTACH;FMTTYPE=image/jpeg:https://szkolaswjp2.pl/wp-content/uploads/2022/09/Narodowa-flaga-Polski.jpg
END:VEVENT
BEGIN:VEVENT
DTSTART;TZID=UTC:20241108T080000
DTEND;TZID=UTC:20241108T120000
DTSTAMP:20260420T084935
CREATED:20241108T113939Z
LAST-MODIFIED:20241108T114033Z
UID:10532-1731052800-1731067200@szkolaswjp2.pl
SUMMARY:„Szkoła do hymnu”
DESCRIPTION:„Szkoła do hymnu”
URL:https://szkolaswjp2.pl/wydarzenie/szkola-do-hymnu/
CATEGORIES:wydarzenia
ATTACH;FMTTYPE=image/jpeg:https://szkolaswjp2.pl/wp-content/uploads/2024/11/20241108_111012-scaled.jpg
END:VEVENT
BEGIN:VEVENT
DTSTART;TZID=UTC:20241106T080000
DTEND;TZID=UTC:20241106T190000
DTSTAMP:20260420T084935
CREATED:20240918T133059Z
LAST-MODIFIED:20240918T133059Z
UID:10098-1730880000-1730919600@szkolaswjp2.pl
SUMMARY:Rady półsemestralne
DESCRIPTION:Rady półsemestralne
URL:https://szkolaswjp2.pl/wydarzenie/rady-polsemestralne-3/
CATEGORIES:wydarzenia
ATTACH;FMTTYPE=image/jpeg:https://szkolaswjp2.pl/wp-content/uploads/2023/02/IMG_2776-scaled.jpg
END:VEVENT
BEGIN:VEVENT
DTSTART;TZID=UTC:20241106T080000
DTEND;TZID=UTC:20241106T100000
DTSTAMP:20260420T084935
CREATED:20241106T090415Z
LAST-MODIFIED:20241106T090415Z
UID:10523-1730880000-1730887200@szkolaswjp2.pl
SUMMARY:Do Hymnu
DESCRIPTION:Dzisiaj odbyło się przesłuchanie naszego występu w Ogólnopolskim Konkursie dla Szkół Podstawowych DO HYMNU. \nJest to konkurs dla wszystkich szkół podstawowych w Polsce i polskich szkół działających na terenie Europy.\nZatem konkurencja wielka!\nW konkursie 420 uczniów naszej szkoły z klas 2-8 wykonało trzy pieśni: Hymn narodowy\, Bogurodzicę i Rotę. Ogromne podziękowania dla wszystkich uczniów\, którzy wzięli udział w dzisiejszym występie i słowa wielkiego uznania dla przygotowującego ten występ naszego nauczyciela muzyki\, pana Grzegorza Sieradzana!
URL:https://szkolaswjp2.pl/wydarzenie/do-hymnu/
CATEGORIES:wydarzenia,zawody-konkursy
ATTACH;FMTTYPE=image/jpeg:https://szkolaswjp2.pl/wp-content/uploads/2024/11/20241106_082809-scaled.jpg
END:VEVENT
BEGIN:VEVENT
DTSTART;TZID=UTC:20241104T180000
DTEND;TZID=UTC:20241104T200000
DTSTAMP:20260420T084935
CREATED:20240918T132728Z
LAST-MODIFIED:20241106T090548Z
UID:10096-1730743200-1730750400@szkolaswjp2.pl
SUMMARY:Msza Święta i Zaduszki z Balladą
DESCRIPTION:Msza Święta i Zaduszki z Balladą\nSzanowni Rodzice\, Nauczyciele i Uczniowie!\n  \nChcielibyśmy zaprosić wszystkich Państwa ( rodzinę\, przyjaciół\, znajomych)\, którzy lubią Grechutę\, Stachurę\, Bellona i innych odeszłych poetów i pieśniarzy na kolejne  ZADUSZKI Z BALLADĄ  w  poniedziałek 04.11.2024\nZaczynamy Mszą Zaduszną o 18.00 w szkolnej kaplicy –  kartki wypominkowe są dostępne w kaplicy.\nJeżeli ktoś nie zdąży na Mszę\, to oczywiście może dołączyć do nas później na samo śpiewanie.\nMożna przynieść niekopcący zbytnio mały znicz lub inne adekwatne światełko.\nBędziemy śpiewać piosenki tych\, którzy już odeszli\, o przemijaniu\, o umieraniu ( nie tylko fizycznym) i mam nadzieję\, że nie będzie to czas smutku lecz refleksji\, nadziei … .\nTym razem nie przewidujemy słodkości\, raczej kawę i herbatę.\nTradycyjnie jeżeli ktoś chciałby\, aby ulubiona piosenka z tego nurtu pojawiła się w śpiewniku\, to proszę o przesłanie do Pana Grzegorza Sieradzana (lub przyniesienie\, czy podanie tytułu) do środy 30.10.\nZapraszamy serdecznie!
URL:https://szkolaswjp2.pl/wydarzenie/msza-swieta-i-zaduszki-z-ballada/
CATEGORIES:koncerty,wydarzenia
ATTACH;FMTTYPE=image/jpeg:https://szkolaswjp2.pl/wp-content/uploads/2024/11/IMG-20241105-WA0001.jpg
END:VEVENT
BEGIN:VEVENT
DTSTART;TZID=UTC:20241104T080000
DTEND;TZID=UTC:20241105T170000
DTSTAMP:20260420T084935
CREATED:20240925T111853Z
LAST-MODIFIED:20241028T104725Z
UID:10253-1730707200-1730826000@szkolaswjp2.pl
SUMMARY:XXI OGÓLNOPOLSKI KONKURS POLONISTYCZNY
DESCRIPTION:Zapraszamy uczniów klas IV\, V\, VI do udziału w Konkursach\nPolonistycznych organizowanych przez Centrum Edukacji Humanistycznej LOGOS SC. \n1.XXI OGÓLNOPOLSKI KONKURS POLONISTYCZNY Z ORTOGRAFIĄ NA CO DZIEŃ\n2.XXIII OGÓLNOPOLSKI KONKURS POLONISTYCZNY Z POPRAWNĄ POLSZCZYZNĄ\nNA CO DZIEŃ\nZgłoszenia do nauczycieli jęz. polskiego do dnia 10 października 2024.\nOpłata konkursowa wynosi 12 zł od osoby.\nI etap konkursu odpowiednio 4 listopada 2024 i 5 listopada 2024\nSzczegółowe regulaminy konkursów znajdują się na stronie Centrum Edukacji Humanistycznej Logos S.C. lub nauczycieli jęz. polskiego. \n 
URL:https://szkolaswjp2.pl/wydarzenie/10253/
CATEGORIES:wydarzenia,zawody-konkursy
ATTACH;FMTTYPE=image/png:https://szkolaswjp2.pl/wp-content/uploads/2022/06/logo_04.png
END:VEVENT
BEGIN:VEVENT
DTSTART;TZID=UTC:20241101T080000
DTEND;TZID=UTC:20241101T170000
DTSTAMP:20260420T084935
CREATED:20240918T132619Z
LAST-MODIFIED:20240919T124728Z
UID:10093-1730448000-1730480400@szkolaswjp2.pl
SUMMARY:Dzień Wszystkich Świetych
DESCRIPTION:Dzień Wszystkich Świętych
URL:https://szkolaswjp2.pl/wydarzenie/swieto-zmarlych/
CATEGORIES:wydarzenia
ATTACH;FMTTYPE=image/jpeg:https://szkolaswjp2.pl/wp-content/uploads/2024/09/unnamed.jpg
END:VEVENT
BEGIN:VEVENT
DTSTART;TZID=UTC:20241030T080000
DTEND;TZID=UTC:20241030T170000
DTSTAMP:20260420T084935
CREATED:20241030T133546Z
LAST-MODIFIED:20241030T133546Z
UID:10511-1730275200-1730307600@szkolaswjp2.pl
SUMMARY:Bal Wszystkich Świętych
DESCRIPTION:Dzisiaj\, zgodnie ze szkolną tradycją\, uczniowie klas 0-3 bawili się na balu Wszystkich Świętych. Było prawie jak w Niebie!
URL:https://szkolaswjp2.pl/wydarzenie/bal-wszystkich-swietych-2/
CATEGORIES:koncerty,wydarzenia
ATTACH;FMTTYPE=image/jpeg:https://szkolaswjp2.pl/wp-content/uploads/2024/10/20241030_141255-scaled.jpg
END:VEVENT
BEGIN:VEVENT
DTSTART;TZID=UTC:20241029T080000
DTEND;TZID=UTC:20241029T170000
DTSTAMP:20260420T084935
CREATED:20240918T132134Z
LAST-MODIFIED:20240918T132134Z
UID:10091-1730188800-1730221200@szkolaswjp2.pl
SUMMARY:Postcommunio
DESCRIPTION:Postcommunio
URL:https://szkolaswjp2.pl/wydarzenie/postcommunio-2/
CATEGORIES:wydarzenia
ATTACH;FMTTYPE=image/jpeg:https://szkolaswjp2.pl/wp-content/uploads/2024/03/IMG_20240313_0856298831-scaled.jpg
END:VEVENT
BEGIN:VEVENT
DTSTART;TZID=UTC:20241023T080000
DTEND;TZID=UTC:20241023T170000
DTSTAMP:20260420T084935
CREATED:20240918T131708Z
LAST-MODIFIED:20240920T085731Z
UID:10089-1729670400-1729702800@szkolaswjp2.pl
SUMMARY:Rada Szkoleniowa - Neurodydaktyka
DESCRIPTION:Rada szkoleniowa – Neurodydaktyka
URL:https://szkolaswjp2.pl/wydarzenie/rada-szkoleniowa-neurodydaktyka/
CATEGORIES:wydarzenia
ATTACH;FMTTYPE=image/jpeg:https://szkolaswjp2.pl/wp-content/uploads/2023/03/20230314_182809-scaled.jpg
END:VEVENT
BEGIN:VEVENT
DTSTART;TZID=UTC:20241022T080000
DTEND;TZID=UTC:20241022T170000
DTSTAMP:20260420T084935
CREATED:20240918T131457Z
LAST-MODIFIED:20240918T131457Z
UID:10087-1729584000-1729616400@szkolaswjp2.pl
SUMMARY:Rozmowy z rodzicami pierwszokomunijnymi - Communio
DESCRIPTION:Rozmowy z rodzicami pierwszokomunijnymi – Communio
URL:https://szkolaswjp2.pl/wydarzenie/rozmowy-z-rodzicami-pierwszokomunijnymi-communio/
CATEGORIES:wydarzenia
ATTACH;FMTTYPE=image/jpeg:https://szkolaswjp2.pl/wp-content/uploads/2023/03/2-300x169-1.jpg
END:VEVENT
BEGIN:VEVENT
DTSTART;TZID=UTC:20241019T080000
DTEND;TZID=UTC:20241019T170000
DTSTAMP:20260420T084935
CREATED:20240918T131219Z
LAST-MODIFIED:20241113T130338Z
UID:10085-1729324800-1729357200@szkolaswjp2.pl
SUMMARY:Święto Szkoły
DESCRIPTION:Święto Szkoły\nSzanowni Państwo\,\nWróćmy wspomnieniami do Święta szkoły. Przeżyjmy jeszcze raz tę radość z bycia razem\, podziwiajmy przepiękne dekoracje i wspaniałe występy! No i ten polonez\, który tańczony był przez nauczycieli\, rodziców\, uczniów\, absolwentów i przyjaciół szkoły. Tylu tańczących naszego świątecznego poloneza jeszcze nie było. Jeszcze raz ogromnie dziękujemy za obecność i wspólne świętowanie!\nZdjęcia\n\nFilm\n\nTeatrzyk
URL:https://szkolaswjp2.pl/wydarzenie/swieto-szkoly-2/
ATTACH;FMTTYPE=image/jpeg:https://szkolaswjp2.pl/wp-content/uploads/2023/09/188.26_Lat_Przymierza_Rodzin-21-10-23-—-kopia-scaled.jpg
END:VEVENT
BEGIN:VEVENT
DTSTART;TZID=UTC:20241016T080000
DTEND;TZID=UTC:20241016T170000
DTSTAMP:20260420T084935
CREATED:20240918T131038Z
LAST-MODIFIED:20240918T131038Z
UID:10083-1729065600-1729098000@szkolaswjp2.pl
SUMMARY:Dzień Patrona
DESCRIPTION:Dzień Patrona
URL:https://szkolaswjp2.pl/wydarzenie/dzien-patrona-2/
CATEGORIES:wydarzenia
ATTACH;FMTTYPE=image/jpeg:https://szkolaswjp2.pl/wp-content/uploads/2022/09/3.jpg
END:VEVENT
BEGIN:VEVENT
DTSTART;TZID=UTC:20241011T080000
DTEND;TZID=UTC:20241013T170000
DTSTAMP:20260420T084935
CREATED:20240918T130902Z
LAST-MODIFIED:20240918T130902Z
UID:10081-1728633600-1728838800@szkolaswjp2.pl
SUMMARY:Kwesta Papieska
DESCRIPTION:Kwesta Papieska
URL:https://szkolaswjp2.pl/wydarzenie/kwesta-papieska-3/
CATEGORIES:wydarzenia
ATTACH;FMTTYPE=image/jpeg:https://szkolaswjp2.pl/wp-content/uploads/2022/09/3.jpg
END:VEVENT
BEGIN:VEVENT
DTSTART;TZID=UTC:20241010T080000
DTEND;TZID=UTC:20241010T170000
DTSTAMP:20260420T084935
CREATED:20240918T140306Z
LAST-MODIFIED:20240918T140306Z
UID:10122-1728547200-1728579600@szkolaswjp2.pl
SUMMARY:Spotkanie Communio
DESCRIPTION:Spotkanie Communio
URL:https://szkolaswjp2.pl/wydarzenie/spotkanie-communio/
CATEGORIES:wydarzenia
ATTACH;FMTTYPE=image/jpeg:https://szkolaswjp2.pl/wp-content/uploads/2022/09/2.jpg
END:VEVENT
BEGIN:VEVENT
DTSTART;TZID=UTC:20241008T080000
DTEND;TZID=UTC:20241009T170000
DTSTAMP:20260420T084935
CREATED:20240918T130323Z
LAST-MODIFIED:20240918T130323Z
UID:10079-1728374400-1728493200@szkolaswjp2.pl
SUMMARY:Rozmowy z rodzicami pierwszokomunijnymi
DESCRIPTION:Rozmowy z rodzicami pierwszokomunijnymi
URL:https://szkolaswjp2.pl/wydarzenie/rozmowy-z-rodzicami-pierwszokomunijnymi-2/
CATEGORIES:wydarzenia
ATTACH;FMTTYPE=image/jpeg:https://szkolaswjp2.pl/wp-content/uploads/2022/09/2.jpg
END:VEVENT
BEGIN:VEVENT
DTSTART;TZID=UTC:20241004T080000
DTEND;TZID=UTC:20241004T170000
DTSTAMP:20260420T084935
CREATED:20240918T130043Z
LAST-MODIFIED:20240918T130057Z
UID:10076-1728028800-1728061200@szkolaswjp2.pl
SUMMARY:Konferencja online "Nie bądź obojętny" - O prawie dziecka do ochrony życia psychicznego - organizuje Kuratorium
DESCRIPTION:Konferencja online „Nie bądź obojętny” – O prawie dziecka do ochrony życia psychicznego – organizuje Kuratorium
URL:https://szkolaswjp2.pl/wydarzenie/konferencja-online-nie-badz-obojetny-o-prawie-dziecka-do-ochrony-zycia-psychicznego-organizuje-kuratorium/
CATEGORIES:wydarzenia
ATTACH;FMTTYPE=image/jpeg:https://szkolaswjp2.pl/wp-content/uploads/2024/02/426287639_326396196538076_7079352453711086327_n.jpg
END:VEVENT
END:VCALENDAR